BEGIN:VCALENDAR
VERSION:2.0
PRODID:-//Montgomery McCracken Walker &amp; Rhoads LLP - ECPv6.6.4.2//NONSGML v1.0//EN
CALSCALE:GREGORIAN
METHOD:PUBLISH
X-ORIGINAL-URL:https://www.mmwr.com
X-WR-CALDESC:Events for Montgomery McCracken Walker &amp; Rhoads LLP
REFRESH-INTERVAL;VALUE=DURATION:PT1H
X-Robots-Tag:noindex
X-PUBLISHED-TTL:PT1H
BEGIN:VTIMEZONE
TZID:America/New_York
BEGIN:DAYLIGHT
TZOFFSETFROM:-0500
TZOFFSETTO:-0400
TZNAME:EDT
DTSTART:20220313T070000
END:DAYLIGHT
BEGIN:STANDARD
TZOFFSETFROM:-0400
TZOFFSETTO:-0500
TZNAME:EST
DTSTART:20221106T060000
END:STANDARD
END:VTIMEZONE
BEGIN:VEVENT
DTSTART;TZID=America/New_York:20220914T120000
DTEND;TZID=America/New_York:20220914T133000
DTSTAMP:20260419T164930
CREATED:20220810T204522Z
LAST-MODIFIED:20220825T142239Z
UID:11342-1663156800-1663162200@www.mmwr.com
SUMMARY:CLE Webinar: When Charity Goes Wrong
DESCRIPTION:Should I give to a charity where the CEO makes a million a year?\nHow do I decide which charity to give to\, and how much to give?\nHow can I tell if a charity is a scam?\nIs my pledge to a charity enforceable? Could I get sued for reneging?\n\nPartner\, Scott Coffina and Rabbi Yitzhak Grossman will spotlight the recent GoFundMe scam involving a homeless veteran. \nClick here to register
URL:https://www.mmwr.com/event/cle-webinar-when-charity-goes-wrong/
ORGANIZER;CN="Institute for Jewish Ethics":MAILTO:IJE@IJEthics.org
END:VEVENT
END:VCALENDAR