BEGIN:VCALENDAR
VERSION:2.0
PRODID:-//Montgomery McCracken Walker &amp; Rhoads LLP - ECPv6.6.4.2//NONSGML v1.0//EN
CALSCALE:GREGORIAN
METHOD:PUBLISH
X-ORIGINAL-URL:https://www.mmwr.com
X-WR-CALDESC:Events for Montgomery McCracken Walker &amp; Rhoads LLP
REFRESH-INTERVAL;VALUE=DURATION:PT1H
X-Robots-Tag:noindex
X-PUBLISHED-TTL:PT1H
BEGIN:VTIMEZONE
TZID:America/New_York
BEGIN:DAYLIGHT
TZOFFSETFROM:-0500
TZOFFSETTO:-0400
TZNAME:EDT
DTSTART:20240310T070000
END:DAYLIGHT
BEGIN:STANDARD
TZOFFSETFROM:-0400
TZOFFSETTO:-0500
TZNAME:EST
DTSTART:20241103T060000
END:STANDARD
END:VTIMEZONE
BEGIN:VEVENT
DTSTART;TZID=America/New_York:20241017T080500
DTEND;TZID=America/New_York:20241017T092500
DTSTAMP:20260421T054354
CREATED:20240917T193640Z
LAST-MODIFIED:20240917T193640Z
UID:13332-1729152300-1729157100@www.mmwr.com
SUMMARY:Ashley Lynam to Present at Sexual Abuse\, Victimization\, and Exploitation Symposium
DESCRIPTION:On October 17\, 2024\, Ashley Lynam will be presenting at the Sexual Abuse\, Victimization\, and Exploitation Symposium. She will be speaking on the panel\, “Valuing an SML Claim and Unexpected Considerations.” \nMore information for the conference
URL:https://www.mmwr.com/event/ashley-lynam-to-present-at-sexual-abuse-victimization-and-exploitation-symposium/
END:VEVENT
BEGIN:VEVENT
DTSTART;TZID=America/New_York:20241017T090000
DTEND;TZID=America/New_York:20241017T121500
DTSTAMP:20260421T054354
CREATED:20241010T152653Z
LAST-MODIFIED:20241010T152653Z
UID:13393-1729155600-1729167300@www.mmwr.com
SUMMARY:Jeremy Mishkin to Speak at PBI's Internet Defamation Webinar
DESCRIPTION:Jeremy Mishkin will be presenting at the Pennsylvania Bar Institute’s webinar on Internet Defamation on October 17\, 2024. \nWeb-based defamation is an increasingly common allegation for clients and their lawyers to face. \nLearn how this classic cause of action manifests online and gain practical tips on how to best protect your client’s reputation or defend your client’s online speech. Join this panel as the panelists share non-litigation and litigation strategies for dealing with claims of Internet defamation. \nMore information for the webinar
URL:https://www.mmwr.com/event/jeremy-mishkin-to-speak-at-pbis-internet-defamation-webinar/
END:VEVENT
BEGIN:VEVENT
DTSTART;TZID=America/New_York:20241017T131500
DTEND;TZID=America/New_York:20241017T140000
DTSTAMP:20260421T054354
CREATED:20240917T192101Z
LAST-MODIFIED:20240917T192234Z
UID:13331-1729170900-1729173600@www.mmwr.com
SUMMARY:Ashley Lynam to Speak at Perrin Conferences' Sexual Abuse Litigation Conference
DESCRIPTION:Ashely Lynam will be speaking at Perrin Conferences’ Sexual Abuse Litigation Conference on October 17\, 2024. She will be speaking on the panel\, “Damages\, Valuation\, Settlements\, and Nuclear Verdicts®.” The panel will discuss the following topics: \n\nPutting a number to these challenging cases\nWhat factors do you use?\nBest practices to prevent Nuclear Verdicts®\nAddressing Medical liens in Sexual Abuse Settlements\n\nMore information for the conference
URL:https://www.mmwr.com/event/ashley-lynam-to-speak-at-perrin-conferences-sexual-abuse-litigation-conference/
END:VEVENT
END:VCALENDAR