BEGIN:VCALENDAR
VERSION:2.0
PRODID:-//Montgomery McCracken Walker &amp; Rhoads LLP - ECPv6.6.4.2//NONSGML v1.0//EN
CALSCALE:GREGORIAN
METHOD:PUBLISH
X-WR-CALNAME:Montgomery McCracken Walker &amp; Rhoads LLP
X-ORIGINAL-URL:https://www.mmwr.com
X-WR-CALDESC:Events for Montgomery McCracken Walker &amp; Rhoads LLP
REFRESH-INTERVAL;VALUE=DURATION:PT1H
X-Robots-Tag:noindex
X-PUBLISHED-TTL:PT1H
BEGIN:VTIMEZONE
TZID:America/New_York
BEGIN:DAYLIGHT
TZOFFSETFROM:-0500
TZOFFSETTO:-0400
TZNAME:EDT
DTSTART:20240310T070000
END:DAYLIGHT
BEGIN:STANDARD
TZOFFSETFROM:-0400
TZOFFSETTO:-0500
TZNAME:EST
DTSTART:20241103T060000
END:STANDARD
END:VTIMEZONE
BEGIN:VEVENT
DTSTART;TZID=America/New_York:20241114T134500
DTEND;TZID=America/New_York:20241114T144500
DTSTAMP:20260419T105318
CREATED:20240917T200234Z
LAST-MODIFIED:20241028T145642Z
UID:13334-1731591900-1731595500@www.mmwr.com
SUMMARY:Carson Morris to Present at PACDL White Collar Practice Seminar
DESCRIPTION:Carson Morris will be presenting at Pennsylvania Association of Criminal Defense Lawyers’ White Collar Practice Seminar on the topic\, “A Former Deputy’s Guide To Dealing With The Pennsylvania Office of Attorney General.” \nIn this presentation\, former deputy attorney generals will discuss the criminal jurisdiction of the Pennsylvania Office of Attorney General (OAG)\, navigating the OAG hierarchy\, current trends in statewide investigating grand jury practice\, the OAG’s use of proffer letters\, how the OAG views joint defense agreements\, the surge in Medicaid fraud and elder abuse cases\, the ABC’s of environmental crimes prosecutions\, and much more. \nMore information for the seminar
URL:https://www.mmwr.com/event/carson-morris-to-present-at-pacdl-white-collar-practice-seminar/
END:VEVENT
END:VCALENDAR