BEGIN:VCALENDAR
VERSION:2.0
PRODID:-//Montgomery McCracken Walker &amp; Rhoads LLP - ECPv6.6.4.2//NONSGML v1.0//EN
CALSCALE:GREGORIAN
METHOD:PUBLISH
X-WR-CALNAME:Montgomery McCracken Walker &amp; Rhoads LLP
X-ORIGINAL-URL:https://www.mmwr.com
X-WR-CALDESC:Events for Montgomery McCracken Walker &amp; Rhoads LLP
REFRESH-INTERVAL;VALUE=DURATION:PT1H
X-Robots-Tag:noindex
X-PUBLISHED-TTL:PT1H
BEGIN:VTIMEZONE
TZID:America/New_York
BEGIN:DAYLIGHT
TZOFFSETFROM:-0500
TZOFFSETTO:-0400
TZNAME:EDT
DTSTART:20250309T070000
END:DAYLIGHT
BEGIN:STANDARD
TZOFFSETFROM:-0400
TZOFFSETTO:-0500
TZNAME:EST
DTSTART:20251102T060000
END:STANDARD
END:VTIMEZONE
BEGIN:VEVENT
DTSTART;VALUE=DATE:20250326
DTEND;VALUE=DATE:20250327
DTSTAMP:20260423T064646
CREATED:20250429T200243Z
LAST-MODIFIED:20250429T200243Z
UID:13765-1742947200-1743033599@www.mmwr.com
SUMMARY:David Blum Presents at Drexel University College of Medicine’s Faculty Launch Program
DESCRIPTION:On March 26\, 2025\, David Blum delivered a presentation entitled “Presenting to the Board & Business Leaders” to a group of twenty-five mid-career physician and public health leaders as part of Drexel University College of Medicine’s Faculty Launch Program. The Faculty Launch Program is a year-long leadership development program for mid-career academic physicians and public health professionals and academicians designed to promote and enhance innovation in health care.
URL:https://www.mmwr.com/event/david-blum-presents-at-drexel-university-college-of-medicines-faculty-launch-program/
END:VEVENT
END:VCALENDAR