BEGIN:VCALENDAR
VERSION:2.0
PRODID:-//Montgomery McCracken Walker &amp; Rhoads LLP - ECPv6.6.4.2//NONSGML v1.0//EN
CALSCALE:GREGORIAN
METHOD:PUBLISH
X-ORIGINAL-URL:https://www.mmwr.com
X-WR-CALDESC:Events for Montgomery McCracken Walker &amp; Rhoads LLP
REFRESH-INTERVAL;VALUE=DURATION:PT1H
X-Robots-Tag:noindex
X-PUBLISHED-TTL:PT1H
BEGIN:VTIMEZONE
TZID:America/New_York
BEGIN:DAYLIGHT
TZOFFSETFROM:-0500
TZOFFSETTO:-0400
TZNAME:EDT
DTSTART:20250309T070000
END:DAYLIGHT
BEGIN:STANDARD
TZOFFSETFROM:-0400
TZOFFSETTO:-0500
TZNAME:EST
DTSTART:20251102T060000
END:STANDARD
END:VTIMEZONE
BEGIN:VEVENT
DTSTART;TZID=America/New_York:20251219T150000
DTEND;TZID=America/New_York:20251219T170000
DTSTAMP:20260421T053955
CREATED:20251203T165700Z
LAST-MODIFIED:20251204T151013Z
UID:14189-1766156400-1766163600@www.mmwr.com
SUMMARY:Michael Fekete to Present on Landlord-Tenant Law
DESCRIPTION:On December 19\, Michael Fekete will present at The Knowledge Group’s CLE Real Estate Law Webinar\, “Evict Me Not: Mastering Landlord-Tenant Showdowns.” Michael will join Bruce E. Gudin\, Partner\, at Ehrlich\, Petriello\, Gudin\, Plaza\, & Reed\, PC in this webinar to discuss practical strategies\, emerging trends\, and actionable insights to navigate landlord-tenant disputes successfully. \nFor a 50% discount to register\, use the link and coupon code below. \nRegistration link: https://knowlearninghub.com/cart/?add-to-cart=28943&utm_source=speaker-free-passes&utm_medium=email&utm_campaign=free-passes-invites\nCoupon code: mmwr1411561 \nMore information for the webinar
URL:https://www.mmwr.com/event/michael-fekete-to-present-on-landlord-tenant-law/
END:VEVENT
END:VCALENDAR