BEGIN:VCALENDAR
VERSION:2.0
PRODID:-//Montgomery McCracken Walker &amp; Rhoads LLP - ECPv6.6.4.2//NONSGML v1.0//EN
CALSCALE:GREGORIAN
METHOD:PUBLISH
X-ORIGINAL-URL:https://www.mmwr.com
X-WR-CALDESC:Events for Montgomery McCracken Walker &amp; Rhoads LLP
REFRESH-INTERVAL;VALUE=DURATION:PT1H
X-Robots-Tag:noindex
X-PUBLISHED-TTL:PT1H
BEGIN:VTIMEZONE
TZID:America/New_York
BEGIN:DAYLIGHT
TZOFFSETFROM:-0500
TZOFFSETTO:-0400
TZNAME:EDT
DTSTART:20250309T070000
END:DAYLIGHT
BEGIN:STANDARD
TZOFFSETFROM:-0400
TZOFFSETTO:-0500
TZNAME:EST
DTSTART:20251102T060000
END:STANDARD
END:VTIMEZONE
BEGIN:VEVENT
DTSTART;TZID=America/New_York:20250304T111500
DTEND;TZID=America/New_York:20250304T121500
DTSTAMP:20260425T065639
CREATED:20250224T171531Z
LAST-MODIFIED:20250224T171717Z
UID:13611-1741086900-1741090500@www.mmwr.com
SUMMARY:Dylan Henry and Kimberly Sachs to Present at ACC's Contracts & Commercial CLE Institute
DESCRIPTION:On March 4\, 2025\, Dylan Henry and Kimberly Sachs will be presenting with Tracey Pachman\, SVP & General Counsel at St. Joseph’s University\, at ACC’s Contracts & Commercial CLE Institute. Their presentation titled\, “There’s No Place Like Home: Leveraging Forum Selection Clauses to Stay Out of Oz Post-Mallory” will discuss: \n\nHow the Supreme Court’s groundbreaking decision in Mallory v. Norfolk Southern has rewritten the rules of personal jurisdiction\nThe decision’s impact and its potential to pull companies into litigation\nHow to craft ironclad forum selection clauses to leveraging arbitration agreements and revising state registrations and how in-house counsel can structure contracts to reclaim control and fortify their companies against the unexpected\n\nMore information and registration
URL:https://www.mmwr.com/event/dylan-henry-and-kimberly-sachs-to-present-at-accs-contracts-commercial-cle-institute/
END:VEVENT
BEGIN:VEVENT
DTSTART;VALUE=DATE:20250325
DTEND;VALUE=DATE:20250326
DTSTAMP:20260425T065639
CREATED:20250326T202546Z
LAST-MODIFIED:20250326T202546Z
UID:13685-1742860800-1742947199@www.mmwr.com
SUMMARY:Timothy Pastore Presents About Litigation Basics
DESCRIPTION:On March 25\, 2025\, Timothy Pastore will be presenting at Financial Poise’s webinar\, “Litigation Basics / Discovery Practice”. \nMore information for the webinar or to register
URL:https://www.mmwr.com/event/timothy-pastore-presents-about-litigation-basics/
END:VEVENT
BEGIN:VEVENT
DTSTART;VALUE=DATE:20250326
DTEND;VALUE=DATE:20250327
DTSTAMP:20260425T065639
CREATED:20250429T200243Z
LAST-MODIFIED:20250429T200243Z
UID:13765-1742947200-1743033599@www.mmwr.com
SUMMARY:David Blum Presents at Drexel University College of Medicine’s Faculty Launch Program
DESCRIPTION:On March 26\, 2025\, David Blum delivered a presentation entitled “Presenting to the Board & Business Leaders” to a group of twenty-five mid-career physician and public health leaders as part of Drexel University College of Medicine’s Faculty Launch Program. The Faculty Launch Program is a year-long leadership development program for mid-career academic physicians and public health professionals and academicians designed to promote and enhance innovation in health care.
URL:https://www.mmwr.com/event/david-blum-presents-at-drexel-university-college-of-medicines-faculty-launch-program/
END:VEVENT
END:VCALENDAR